Package: GeneMeta Version: 1.81.0 Command: /Library/Frameworks/R.framework/Resources/bin/R CMD build --keep-empty-dirs --no-resave-data GeneMeta StartedAt: 2025-10-17 16:28:05 -0400 (Fri, 17 Oct 2025) EndedAt: 2025-10-17 16:28:19 -0400 (Fri, 17 Oct 2025) EllapsedTime: 14.2 seconds RetCode: 0 Status: OK PackageFile: GeneMeta_1.81.0.tar.gz PackageFileSize: 2.704 MiB