Package: GeneGA Version: 1.61.0 Command: /home/biocbuild/bbs-3.23-bioc/R/bin/R CMD build --keep-empty-dirs --no-resave-data GeneGA StartedAt: 2025-10-31 17:55:08 -0400 (Fri, 31 Oct 2025) EndedAt: 2025-10-31 17:56:15 -0400 (Fri, 31 Oct 2025) EllapsedTime: 67.1 seconds RetCode: 0 Status: OK PackageFile: GeneGA_1.61.0.tar.gz PackageFileSize: 228.2 KiB