Package: GeneGA Version: 1.61.0 Command: /Library/Frameworks/R.framework/Resources/bin/R CMD INSTALL GeneGA StartedAt: 2025-11-20 15:13:44 -0500 (Thu, 20 Nov 2025) EndedAt: 2025-11-20 15:14:40 -0500 (Thu, 20 Nov 2025) EllapsedTime: 55.5 seconds RetCode: 0 Status: OK