Package: GeneGA Version: 1.61.0 Command: /Library/Frameworks/R.framework/Resources/bin/R CMD build --keep-empty-dirs --no-resave-data GeneGA StartedAt: 2025-11-20 17:06:30 -0500 (Thu, 20 Nov 2025) EndedAt: 2025-11-20 17:09:26 -0500 (Thu, 20 Nov 2025) EllapsedTime: 176.2 seconds RetCode: 0 Status: OK PackageFile: GeneGA_1.61.0.tar.gz PackageFileSize: 228.9 KiB