Package: GeneGA Version: 1.61.0 Command: rm -rf GeneGA.buildbin-libdir && mkdir GeneGA.buildbin-libdir && /Users/biocbuild/BBS/utils/build-universal.sh GeneGA_1.61.0.tar.gz /Library/Frameworks/R.framework/Resources/bin/R GeneGA.buildbin-libdir StartedAt: 2025-11-21 01:35:00 -0500 (Fri, 21 Nov 2025) EndedAt: 2025-11-21 01:35:09 -0500 (Fri, 21 Nov 2025) EllapsedTime: 9.4 seconds RetCode: 0 Status: OK PackageFile: GeneGA_1.61.0.tgz PackageFileSize: 400.7 KiB