Package: GeneGA Version: 1.59.0 Command: /Library/Frameworks/R.framework/Resources/bin/R CMD INSTALL GeneGA StartedAt: 2025-10-14 15:04:05 -0400 (Tue, 14 Oct 2025) EndedAt: 2025-10-14 15:04:22 -0400 (Tue, 14 Oct 2025) EllapsedTime: 17.3 seconds RetCode: 0 Status: OK