Package: GeneGA Version: 1.59.0 Command: /Library/Frameworks/R.framework/Resources/bin/R CMD build --keep-empty-dirs --no-resave-data GeneGA StartedAt: 2025-10-14 16:27:29 -0400 (Tue, 14 Oct 2025) EndedAt: 2025-10-14 16:27:31 -0400 (Tue, 14 Oct 2025) EllapsedTime: 2.0 seconds RetCode: 1 Status: ERROR PackageFile: None PackageFileSize: NA