Package: GeneExpressionSignature Version: 1.55.0 Command: /home/biocbuild/R/R/bin/R CMD INSTALL GeneExpressionSignature StartedAt: 2025-10-06 20:24:40 -0000 (Mon, 06 Oct 2025) EndedAt: 2025-10-06 20:24:52 -0000 (Mon, 06 Oct 2025) EllapsedTime: 11.8 seconds RetCode: 0 Status: OK