Package: GeneExpressionSignature Version: 1.55.0 Command: /home/biocbuild/R/R/bin/R CMD build --keep-empty-dirs --no-resave-data GeneExpressionSignature StartedAt: 2025-10-06 23:50:56 -0000 (Mon, 06 Oct 2025) EndedAt: 2025-10-06 23:51:33 -0000 (Mon, 06 Oct 2025) EllapsedTime: 37.0 seconds RetCode: 0 Status: OK PackageFile: GeneExpressionSignature_1.55.0.tar.gz PackageFileSize: 2.572 MiB