Package: GeneExpressionSignature Version: 1.57.0 Command: /home/biocbuild/bbs-3.23-bioc/R/bin/R CMD INSTALL GeneExpressionSignature StartedAt: 2025-11-20 15:12:45 -0500 (Thu, 20 Nov 2025) EndedAt: 2025-11-20 15:12:48 -0500 (Thu, 20 Nov 2025) EllapsedTime: 3.5 seconds RetCode: 0 Status: OK