Package: GeneExpressionSignature Version: 1.57.0 Command: /home/biocbuild/bbs-3.23-bioc/R/bin/R CMD build --keep-empty-dirs --no-resave-data GeneExpressionSignature StartedAt: 2025-11-20 17:44:14 -0500 (Thu, 20 Nov 2025) EndedAt: 2025-11-20 17:44:40 -0500 (Thu, 20 Nov 2025) EllapsedTime: 26.0 seconds RetCode: 0 Status: OK PackageFile: GeneExpressionSignature_1.57.0.tar.gz PackageFileSize: 2.545 MiB