Package: GeneBreak Version: 1.41.0 Command: /home/biocbuild/bbs-3.23-bioc/R/bin/R CMD INSTALL GeneBreak StartedAt: 2025-11-20 15:15:42 -0500 (Thu, 20 Nov 2025) EndedAt: 2025-11-20 15:15:59 -0500 (Thu, 20 Nov 2025) EllapsedTime: 17.5 seconds RetCode: 0 Status: OK