Package: GeneBreak Version: 1.41.0 Command: /home/biocbuild/bbs-3.23-bioc/R/bin/R CMD build --keep-empty-dirs --no-resave-data GeneBreak StartedAt: 2025-11-21 17:43:15 -0500 (Fri, 21 Nov 2025) EndedAt: 2025-11-21 17:43:46 -0500 (Fri, 21 Nov 2025) EllapsedTime: 31.0 seconds RetCode: 0 Status: OK PackageFile: GeneBreak_1.41.0.tar.gz PackageFileSize: 4.274 MiB