Package: GeneBreak Version: 1.41.0 Command: /Library/Frameworks/R.framework/Resources/bin/R CMD INSTALL GeneBreak StartedAt: 2025-11-21 15:23:38 -0500 (Fri, 21 Nov 2025) EndedAt: 2025-11-21 15:24:04 -0500 (Fri, 21 Nov 2025) EllapsedTime: 26.3 seconds RetCode: 0 Status: OK