Package: GeneBreak Version: 1.41.0 Command: /Library/Frameworks/R.framework/Resources/bin/R CMD build --keep-empty-dirs --no-resave-data GeneBreak StartedAt: 2025-11-21 17:05:38 -0500 (Fri, 21 Nov 2025) EndedAt: 2025-11-21 17:06:17 -0500 (Fri, 21 Nov 2025) EllapsedTime: 39.0 seconds RetCode: 0 Status: OK PackageFile: GeneBreak_1.41.0.tar.gz PackageFileSize: 4.273 MiB