Package: GeneBreak Version: 1.40.0 Command: /Library/Frameworks/R.framework/Resources/bin/R CMD INSTALL GeneBreak StartedAt: 2025-10-29 21:32:50 -0400 (Wed, 29 Oct 2025) EndedAt: 2025-10-29 21:32:56 -0400 (Wed, 29 Oct 2025) EllapsedTime: 6.6 seconds RetCode: 0 Status: OK