Package: GeneBreak Version: 1.40.0 Command: rm -rf GeneBreak.buildbin-libdir && mkdir GeneBreak.buildbin-libdir && /Users/biocbuild/BBS/utils/build-universal.sh GeneBreak_1.40.0.tar.gz /Library/Frameworks/R.framework/Resources/bin/R GeneBreak.buildbin-libdir StartedAt: 2025-10-30 05:25:40 -0400 (Thu, 30 Oct 2025) EndedAt: 2025-10-30 05:25:48 -0400 (Thu, 30 Oct 2025) EllapsedTime: 7.1 seconds RetCode: 0 Status: OK PackageFile: GeneBreak_1.40.0.tgz PackageFileSize: 4.579 MiB