Package: GenVisR Version: 1.41.2 Command: /home/biocbuild/R/R/bin/R CMD INSTALL GenVisR StartedAt: 2025-10-16 21:59:34 -0000 (Thu, 16 Oct 2025) EndedAt: 2025-10-16 22:00:38 -0000 (Thu, 16 Oct 2025) EllapsedTime: 64.7 seconds RetCode: 0 Status: OK