Package: GenVisR Version: 1.41.2 Command: /home/biocbuild/R/R/bin/R CMD build --keep-empty-dirs --no-resave-data GenVisR StartedAt: 2025-10-17 01:28:53 -0000 (Fri, 17 Oct 2025) EndedAt: 2025-10-17 01:33:19 -0000 (Fri, 17 Oct 2025) EllapsedTime: 266.1 seconds RetCode: 0 Status: OK PackageFile: GenVisR_1.41.2.tar.gz PackageFileSize: 3.787 MiB