Package: GenVisR Version: 1.41.2 Command: /home/biocbuild/bbs-3.22-bioc/R/bin/R CMD check --install=check:GenVisR.install-out.txt --library=/home/biocbuild/bbs-3.22-bioc/R/site-library --timings GenVisR_1.41.2.tar.gz StartedAt: 2025-10-22 00:19:19 -0400 (Wed, 22 Oct 2025) EndedAt: 2025-10-22 00:27:34 -0400 (Wed, 22 Oct 2025) EllapsedTime: 494.5 seconds RetCode: 1 Status: ERROR CheckDir: GenVisR.Rcheck Warnings: NA