Package: GenVisR Version: 1.43.0 Command: /home/biocbuild/bbs-3.23-bioc/R/bin/R CMD INSTALL GenVisR StartedAt: 2025-11-02 15:46:38 -0500 (Sun, 02 Nov 2025) EndedAt: 2025-11-02 15:47:29 -0500 (Sun, 02 Nov 2025) EllapsedTime: 51.3 seconds RetCode: 0 Status: OK