Package: GenVisR Version: 1.43.0 Command: /home/biocbuild/bbs-3.23-bioc/R/bin/R CMD build --keep-empty-dirs --no-resave-data GenVisR StartedAt: 2025-11-03 17:42:32 -0500 (Mon, 03 Nov 2025) EndedAt: 2025-11-03 17:45:11 -0500 (Mon, 03 Nov 2025) EllapsedTime: 159.1 seconds RetCode: 0 Status: OK PackageFile: GenVisR_1.43.0.tar.gz PackageFileSize: 4.927 MiB