Package: GenVisR Version: 1.41.2 Command: /Library/Frameworks/R.framework/Resources/bin/R CMD INSTALL GenVisR StartedAt: 2025-10-06 15:36:40 -0400 (Mon, 06 Oct 2025) EndedAt: 2025-10-06 15:37:49 -0400 (Mon, 06 Oct 2025) EllapsedTime: 69.1 seconds RetCode: 0 Status: OK