Package: GenVisR Version: 1.41.2 Command: /Library/Frameworks/R.framework/Resources/bin/R CMD build --keep-empty-dirs --no-resave-data GenVisR StartedAt: 2025-10-06 17:11:04 -0400 (Mon, 06 Oct 2025) EndedAt: 2025-10-06 17:14:17 -0400 (Mon, 06 Oct 2025) EllapsedTime: 193.7 seconds RetCode: 0 Status: OK PackageFile: GenVisR_1.41.2.tar.gz PackageFileSize: 5.025 MiB