Package: GenVisR Version: 1.41.2 Command: rm -rf GenVisR.buildbin-libdir && mkdir GenVisR.buildbin-libdir && /Users/biocbuild/BBS/utils/build-universal.sh GenVisR_1.41.2.tar.gz /Library/Frameworks/R.framework/Resources/bin/R GenVisR.buildbin-libdir StartedAt: 2025-10-06 02:02:37 -0400 (Mon, 06 Oct 2025) EndedAt: 2025-10-06 02:03:53 -0400 (Mon, 06 Oct 2025) EllapsedTime: 75.9 seconds RetCode: 0 Status: OK PackageFile: GenVisR_1.41.2.tgz PackageFileSize: 4.046 MiB