Package: GenVisR Version: 1.41.2 Maintainer: Zachary Skidmore MaintainerEmail: zlskidmore at gmail.com git_url: https://git.bioconductor.org/packages/GenVisR git_branch: devel git_last_commit: 2383d6f git_last_commit_date: 2025-07-22 20:03:22 -0400 (Tue, 22 Jul 2025)