Package: GeDi Version: 1.7.0 Command: /home/biocbuild/bbs-3.23-bioc/R/bin/R CMD INSTALL GeDi StartedAt: 2025-11-07 15:50:23 -0500 (Fri, 07 Nov 2025) EndedAt: 2025-11-07 15:51:18 -0500 (Fri, 07 Nov 2025) EllapsedTime: 54.3 seconds RetCode: 0 Status: OK