Package: GeDi Version: 1.7.0 Command: /home/biocbuild/bbs-3.23-bioc/R/bin/R CMD build --keep-empty-dirs --no-resave-data GeDi StartedAt: 2025-11-07 17:39:52 -0500 (Fri, 07 Nov 2025) EndedAt: 2025-11-07 17:42:55 -0500 (Fri, 07 Nov 2025) EllapsedTime: 183.3 seconds RetCode: 0 Status: OK PackageFile: GeDi_1.7.0.tar.gz PackageFileSize: 3.413 MiB