Package: GateFinder Version: 1.31.0 Command: /home/biocbuild/bbs-3.23-bioc/R/bin/R CMD INSTALL GateFinder StartedAt: 2025-11-20 15:13:41 -0500 (Thu, 20 Nov 2025) EndedAt: 2025-11-20 15:13:52 -0500 (Thu, 20 Nov 2025) EllapsedTime: 10.9 seconds RetCode: 0 Status: OK