Package: GateFinder Version: 1.31.0 Command: /Library/Frameworks/R.framework/Resources/bin/R CMD INSTALL GateFinder StartedAt: 2025-11-20 15:32:12 -0500 (Thu, 20 Nov 2025) EndedAt: 2025-11-20 15:32:29 -0500 (Thu, 20 Nov 2025) EllapsedTime: 17.3 seconds RetCode: 0 Status: OK