Package: GateFinder Version: 1.31.0 Command: /Library/Frameworks/R.framework/Resources/bin/R CMD build --keep-empty-dirs --no-resave-data GateFinder StartedAt: 2025-11-20 17:05:02 -0500 (Thu, 20 Nov 2025) EndedAt: 2025-11-20 17:05:24 -0500 (Thu, 20 Nov 2025) EllapsedTime: 21.6 seconds RetCode: 0 Status: OK PackageFile: GateFinder_1.31.0.tar.gz PackageFileSize: 581.3 KiB