Package: GateFinder Version: 1.31.0 Command: rm -rf GateFinder.buildbin-libdir && mkdir GateFinder.buildbin-libdir && /Users/biocbuild/BBS/utils/build-universal.sh GateFinder_1.31.0.tar.gz /Library/Frameworks/R.framework/Resources/bin/R GateFinder.buildbin-libdir StartedAt: 2025-11-21 01:34:31 -0500 (Fri, 21 Nov 2025) EndedAt: 2025-11-21 01:34:53 -0500 (Fri, 21 Nov 2025) EllapsedTime: 22.0 seconds RetCode: 0 Status: OK PackageFile: GateFinder_1.31.0.tgz PackageFileSize: 965.1 KiB