Package: GWENA Version: 1.21.0 Command: /home/biocbuild/bbs-3.23-bioc/R/bin/R CMD build --keep-empty-dirs --no-resave-data GWENA StartedAt: 2025-11-21 18:00:37 -0500 (Fri, 21 Nov 2025) EndedAt: 2025-11-21 18:02:25 -0500 (Fri, 21 Nov 2025) EllapsedTime: 108.1 seconds RetCode: 0 Status: OK PackageFile: GWENA_1.21.0.tar.gz PackageFileSize: 4.8 MiB