Package: GWENA Version: 1.21.0 Command: /Library/Frameworks/R.framework/Resources/bin/R CMD INSTALL GWENA StartedAt: 2025-11-21 15:42:36 -0500 (Fri, 21 Nov 2025) EndedAt: 2025-11-21 15:43:26 -0500 (Fri, 21 Nov 2025) EllapsedTime: 49.4 seconds RetCode: 0 Status: OK