Package: GWENA Version: 1.19.0 Command: /Library/Frameworks/R.framework/Resources/bin/R CMD INSTALL GWENA StartedAt: 2025-10-24 15:28:09 -0400 (Fri, 24 Oct 2025) EndedAt: 2025-10-24 15:28:25 -0400 (Fri, 24 Oct 2025) EllapsedTime: 16.7 seconds RetCode: 0 Status: OK