Package: GWENA Version: 1.19.0 Command: /Library/Frameworks/R.framework/Resources/bin/R CMD build --keep-empty-dirs --no-resave-data GWENA StartedAt: 2025-10-26 16:47:10 -0400 (Sun, 26 Oct 2025) EndedAt: 2025-10-26 16:50:22 -0400 (Sun, 26 Oct 2025) EllapsedTime: 191.9 seconds RetCode: 1 Status: ERROR PackageFile: None PackageFileSize: NA