Package: GWASTools Version: 1.55.0 Command: /home/biocbuild/R/R/bin/R CMD INSTALL GWASTools StartedAt: 2025-10-23 20:30:37 -0000 (Thu, 23 Oct 2025) EndedAt: 2025-10-23 20:31:11 -0000 (Thu, 23 Oct 2025) EllapsedTime: 34.3 seconds RetCode: 0 Status: OK