Package: GWASTools Version: 1.55.0 Command: /home/biocbuild/bbs-3.22-bioc/R/bin/R CMD check --install=check:GWASTools.install-out.txt --library=/home/biocbuild/bbs-3.22-bioc/R/site-library --timings GWASTools_1.55.0.tar.gz StartedAt: 2025-10-16 01:09:48 -0400 (Thu, 16 Oct 2025) EndedAt: 2025-10-16 01:14:42 -0400 (Thu, 16 Oct 2025) EllapsedTime: 293.3 seconds RetCode: 0 Status: OK CheckDir: GWASTools.Rcheck Warnings: 0