Package: GWASTools Version: 1.57.0 Command: /home/biocbuild/bbs-3.23-bioc/R/bin/R CMD INSTALL GWASTools StartedAt: 2025-11-20 15:11:34 -0500 (Thu, 20 Nov 2025) EndedAt: 2025-11-20 15:11:58 -0500 (Thu, 20 Nov 2025) EllapsedTime: 23.6 seconds RetCode: 0 Status: OK