Package: GWASTools Version: 1.57.0 Command: /home/biocbuild/bbs-3.23-bioc/R/bin/R CMD check --install=check:GWASTools.install-out.txt --library=/home/biocbuild/bbs-3.23-bioc/R/site-library --timings GWASTools_1.57.0.tar.gz StartedAt: 2025-11-22 00:17:15 -0500 (Sat, 22 Nov 2025) EndedAt: 2025-11-22 00:22:08 -0500 (Sat, 22 Nov 2025) EllapsedTime: 293.4 seconds RetCode: 0 Status: OK CheckDir: GWASTools.Rcheck Warnings: 0