Package: GWASTools Version: 1.57.0 Command: /home/biocbuild/bbs-3.23-bioc/R/bin/R CMD build --keep-empty-dirs --no-resave-data GWASTools StartedAt: 2025-11-20 18:00:44 -0500 (Thu, 20 Nov 2025) EndedAt: 2025-11-20 18:01:39 -0500 (Thu, 20 Nov 2025) EllapsedTime: 55.0 seconds RetCode: 0 Status: OK PackageFile: GWASTools_1.57.0.tar.gz PackageFileSize: 1.93 MiB