Package: GWAS.BAYES Version: 1.19.0 Command: /home/biocbuild/bbs-3.22-bioc/R/bin/R CMD check --install=check:GWAS.BAYES.install-out.txt --library=/home/biocbuild/bbs-3.22-bioc/R/site-library --timings GWAS.BAYES_1.19.0.tar.gz StartedAt: 2025-10-11 00:48:06 -0400 (Sat, 11 Oct 2025) EndedAt: 2025-10-11 00:52:07 -0400 (Sat, 11 Oct 2025) EllapsedTime: 240.3 seconds RetCode: 0 Status: OK CheckDir: GWAS.BAYES.Rcheck Warnings: 0