Package: GWAS.BAYES Version: 1.21.0 Command: /home/biocbuild/bbs-3.23-bioc/R/bin/R CMD INSTALL GWAS.BAYES StartedAt: 2025-11-07 15:10:00 -0500 (Fri, 07 Nov 2025) EndedAt: 2025-11-07 15:10:14 -0500 (Fri, 07 Nov 2025) EllapsedTime: 14.4 seconds RetCode: 0 Status: OK