Package: GWAS.BAYES Version: 1.21.0 Command: /home/biocbuild/bbs-3.23-bioc/R/bin/R CMD check --install=check:GWAS.BAYES.install-out.txt --library=/home/biocbuild/bbs-3.23-bioc/R/site-library --timings GWAS.BAYES_1.21.0.tar.gz StartedAt: 2025-11-18 00:22:12 -0500 (Tue, 18 Nov 2025) EndedAt: 2025-11-18 00:26:26 -0500 (Tue, 18 Nov 2025) EllapsedTime: 254.5 seconds RetCode: 0 Status: OK CheckDir: GWAS.BAYES.Rcheck Warnings: 0