Package: GWAS.BAYES Version: 1.21.0 Command: /home/biocbuild/bbs-3.23-bioc/R/bin/R CMD build --keep-empty-dirs --no-resave-data GWAS.BAYES StartedAt: 2025-11-07 17:57:29 -0500 (Fri, 07 Nov 2025) EndedAt: 2025-11-07 18:00:15 -0500 (Fri, 07 Nov 2025) EllapsedTime: 166.2 seconds RetCode: 0 Status: OK PackageFile: GWAS.BAYES_1.21.0.tar.gz PackageFileSize: 1.347 MiB