Package: GUIDEseq Version: 1.39.0 Command: /home/biocbuild/R/R/bin/R CMD INSTALL GUIDEseq StartedAt: 2025-10-13 21:40:32 -0000 (Mon, 13 Oct 2025) EndedAt: 2025-10-13 21:41:40 -0000 (Mon, 13 Oct 2025) EllapsedTime: 67.6 seconds RetCode: 0 Status: OK