Package: GUIDEseq Version: 1.39.0 Command: /home/biocbuild/R/R/bin/R CMD build --keep-empty-dirs --no-resave-data GUIDEseq StartedAt: 2025-10-14 00:52:06 -0000 (Tue, 14 Oct 2025) EndedAt: 2025-10-14 00:54:06 -0000 (Tue, 14 Oct 2025) EllapsedTime: 119.1 seconds RetCode: 0 Status: OK PackageFile: GUIDEseq_1.39.0.tar.gz PackageFileSize: 5.862 MiB