Package: GUIDEseq Version: 1.41.0 Command: /home/biocbuild/bbs-3.23-bioc/R/bin/R CMD INSTALL GUIDEseq StartedAt: 2025-11-05 15:58:49 -0500 (Wed, 05 Nov 2025) EndedAt: 2025-11-05 15:59:03 -0500 (Wed, 05 Nov 2025) EllapsedTime: 13.8 seconds RetCode: 1 Status: ERROR