############################################################################## ############################################################################## ### ### Running command: ### ### /home/biocbuild/bbs-3.23-bioc/R/bin/R CMD INSTALL GUIDEseq ### ############################################################################## ############################################################################## * installing to library ‘/home/biocbuild/bbs-3.23-bioc/R/site-library’ * installing *source* package ‘GUIDEseq’ ... ** this is package ‘GUIDEseq’ version ‘1.41.0’ ** using staged installation ** R ** data ** inst ** byte-compile and prepare package for lazy loading Error: object ‘microRNAs’ is not exported by 'namespace:GenomicFeatures' Execution halted ERROR: lazy loading failed for package ‘GUIDEseq’ * removing ‘/home/biocbuild/bbs-3.23-bioc/R/site-library/GUIDEseq’ * restoring previous ‘/home/biocbuild/bbs-3.23-bioc/R/site-library/GUIDEseq’