Package: GUIDEseq Version: 1.41.0 Command: /home/biocbuild/bbs-3.23-bioc/R/bin/R CMD build --keep-empty-dirs --no-resave-data GUIDEseq StartedAt: 2025-11-04 17:55:33 -0500 (Tue, 04 Nov 2025) EndedAt: 2025-11-04 17:55:51 -0500 (Tue, 04 Nov 2025) EllapsedTime: 18.0 seconds RetCode: 1 Status: ERROR PackageFile: None PackageFileSize: NA